BEGIN:VCALENDAR
VERSION:2.0
PRODID:-//BDSM Studio Xème Paris, France - ECPv6.15.14//NONSGML v1.0//EN
CALSCALE:GREGORIAN
METHOD:PUBLISH
X-ORIGINAL-URL:https://bdsmloveroom.com
X-WR-CALDESC:Évènements pour BDSM Studio Xème Paris, France
REFRESH-INTERVAL;VALUE=DURATION:PT1H
X-Robots-Tag:noindex
X-PUBLISHED-TTL:PT1H
BEGIN:VTIMEZONE
TZID:Europe/Paris
BEGIN:DAYLIGHT
TZOFFSETFROM:+0100
TZOFFSETTO:+0200
TZNAME:CEST
DTSTART:20250330T010000
END:DAYLIGHT
BEGIN:STANDARD
TZOFFSETFROM:+0200
TZOFFSETTO:+0100
TZNAME:CET
DTSTART:20251026T010000
END:STANDARD
BEGIN:DAYLIGHT
TZOFFSETFROM:+0100
TZOFFSETTO:+0200
TZNAME:CEST
DTSTART:20260329T010000
END:DAYLIGHT
BEGIN:STANDARD
TZOFFSETFROM:+0200
TZOFFSETTO:+0100
TZNAME:CET
DTSTART:20261025T010000
END:STANDARD
BEGIN:DAYLIGHT
TZOFFSETFROM:+0100
TZOFFSETTO:+0200
TZNAME:CEST
DTSTART:20270328T010000
END:DAYLIGHT
BEGIN:STANDARD
TZOFFSETFROM:+0200
TZOFFSETTO:+0100
TZNAME:CET
DTSTART:20271031T010000
END:STANDARD
END:VTIMEZONE
BEGIN:VEVENT
DTSTART;TZID=Europe/Paris:20260221T150000
DTEND;TZID=Europe/Paris:20260221T163000
DTSTAMP:20260422T001011
CREATED:20260208T141909Z
LAST-MODIFIED:20260208T141909Z
UID:509-1771686000-1771691400@bdsmloveroom.com
SUMMARY:Atelier sensoriel sur le liège : L’art de créer un arbre humain
DESCRIPTION:Entrez dans une expérience sensorielle inexplorée\, axée sur la nature\, où le liège et les matériaux organiques transforment l’ordinaire en quelque chose d’extraordinaire. Au cours de cette démonstration pratique\, vous verrez comment guider quelqu’un vers la forme et la présence d’un arbre\, en utilisant la texture\, le mouvement et les éléments naturels\, le tout en toute sécurité et de manière consensuelle. \nGrâce à des démonstrations en direct\, vous explorerez \n\nComment le liège peut adoucir\, amortir et amplifier le toucher\, en sollicitant les sens de manière surprenante.\nTechniques de superposition de branches\, de feuilles et d’autres matériaux organiques pour donner à la forme humaine une présence vivante et enracinée.\nL’interaction du toucher\, de l’odeur\, du son et du mouvement subtil permet d’accroître la perception et de créer une expérience totalement immersive.\nComment orchestrer un flux sensoriel à la fois apaisant\, ludique et profondément engageant ?\n\nCet atelier s’adresse aux curieux\, aux amateurs de toucher et à toute personne désireuse d’explorer une nouvelle forme d’art sensoriel largement inexplorée. Vous verrez comment des matériaux naturels et un accompagnement attentif peuvent éveiller les sens\, inspirer la créativité et permettre au participant d’incarner un arbre de manière sereine\, évocatrice et hypnotiquement tactile. \nAucune expérience préalable n’est requise – apportez votre curiosité et votre ouverture d’esprit pour observer\, apprendre et expérimenter les possibilités inattendues du liège\, de la nature et de la forme humaine. \nCet événement se déroulera au Studio Xème. Des rafraîchissements seront offerts et des bouchons de liège seront fournis pour que vous puissiez également les essayer. Une tenue confortable est recommandée. \n\n\n\n\n\n\n\n\n\n\n\n\n\n\n\n\n\nRéservez votre place ici ! \n\n  \n  \nSpectacle de la déesse avec cork \n\nPhotos de hyacinthe_
URL:https://bdsmloveroom.com/event/atelier-sensoriel-sur-le-liege/
LOCATION:Xème\, Passage des Récollets\, Paris\, Île-de-France\, 75010\, France
CATEGORIES:Atelier
ATTACH;FMTTYPE=image/jpeg:https://bdsmloveroom.com/wp-content/uploads/2026/02/Sensory-workshop-with-cork.jpg
ORGANIZER;CN="Domina M":MAILTO:dominam@protonmail.ch
END:VEVENT
BEGIN:VEVENT
DTSTART;TZID=Europe/Paris:20260117T150000
DTEND;TZID=Europe/Paris:20260117T180000
DTSTAMP:20260422T001011
CREATED:20260107T135820Z
LAST-MODIFIED:20260107T135820Z
UID:495-1768662000-1768672800@bdsmloveroom.com
SUMMARY:Cordée réservée aux dames
DESCRIPTION:Bonjour et bienvenue dans notre vibrante communauté de cordes réservée aux femmes au cœur de Paris ! \nRejoignez-nous pour un délicieux « Ladies Only Rope Jam »\, où vous pourrez explorer l’art de la corde dans une atmosphère amicale\, solidaire et légèrement effrontée ! Que vous ayez envie d’essayer d’être un lapin de corde\, d’apprendre quelques techniques de ligotage\, de vous entraîner avec des amies\, ou simplement de vous détendre et de discuter avec des femmes merveilleuses\, vous trouverez votre place ici. Rendez-vous dans le donjon bien équipé du Studio Xème\, avec des zones matelassées et des points de bondage. Domina M sera présente pour vous aider et vous superviser. \nNous nous efforçons de créer un environnement chaleureux et accueillant qui célèbre la curiosité et l’expression personnelle. Venez jouer\, apprendre\, rire et vous connecter avec une fantastique communauté de personnes partageant les mêmes idées. Nous avons hâte de vous rencontrer ! \nRéservez votre place ici.
URL:https://bdsmloveroom.com/event/cordee-reservee-aux-dames/
LOCATION:Xème\, Passage des Récollets\, Paris\, Île-de-France\, 75010\, France
CATEGORIES:Rope Jam
ATTACH;FMTTYPE=image/png:https://bdsmloveroom.com/wp-content/uploads/2026/01/Rope-Jam-for-ladies-only.png
END:VEVENT
END:VCALENDAR