BEGIN:VCALENDAR
VERSION:2.0
PRODID:-//BDSM Studio Xème Paris, France - ECPv6.15.14//NONSGML v1.0//EN
CALSCALE:GREGORIAN
METHOD:PUBLISH
X-WR-CALNAME:BDSM Studio Xème Paris, France
X-ORIGINAL-URL:https://bdsmloveroom.com/en/
X-WR-CALDESC:Events for BDSM Studio Xème Paris, France
REFRESH-INTERVAL;VALUE=DURATION:PT1H
X-Robots-Tag:noindex
X-PUBLISHED-TTL:PT1H
BEGIN:VTIMEZONE
TZID:Europe/Paris
BEGIN:DAYLIGHT
TZOFFSETFROM:+0100
TZOFFSETTO:+0200
TZNAME:CEST
DTSTART:20250330T010000
END:DAYLIGHT
BEGIN:STANDARD
TZOFFSETFROM:+0200
TZOFFSETTO:+0100
TZNAME:CET
DTSTART:20251026T010000
END:STANDARD
BEGIN:DAYLIGHT
TZOFFSETFROM:+0100
TZOFFSETTO:+0200
TZNAME:CEST
DTSTART:20260329T010000
END:DAYLIGHT
BEGIN:STANDARD
TZOFFSETFROM:+0200
TZOFFSETTO:+0100
TZNAME:CET
DTSTART:20261025T010000
END:STANDARD
BEGIN:DAYLIGHT
TZOFFSETFROM:+0100
TZOFFSETTO:+0200
TZNAME:CEST
DTSTART:20270328T010000
END:DAYLIGHT
BEGIN:STANDARD
TZOFFSETFROM:+0200
TZOFFSETTO:+0100
TZNAME:CET
DTSTART:20271031T010000
END:STANDARD
END:VTIMEZONE
BEGIN:VEVENT
DTSTART;TZID=Europe/Paris:20260221T150000
DTEND;TZID=Europe/Paris:20260221T163000
DTSTAMP:20260422T015925
CREATED:20260208T141909Z
LAST-MODIFIED:20260208T141909Z
UID:514-1771686000-1771691400@bdsmloveroom.com
SUMMARY:Cork Sensory Workshop: The Art of Creating a Human Tree
DESCRIPTION:Step into an unexplored\, nature-focused sensory experience where cork and organic materials transform the ordinary into something extraordinary. During this hands-on demonstration\, you will see how to guide someone into the form and presence of a tree\, using texture\, movement\, and natural elements\, all safely and consensually.  \nThrough live demonstrations\, you will explore \n\nHow cork can soften\, cushion\, and amplify touch\, engaging the senses in surprising ways.\nTechniques for layering branches\, leaves\, and other organic materials to give the human form a living\, rooted presence.\nThe interaction of touch\, smell\, sound\, and subtle movement to heighten perception and create a fully immersive experience.\nHow to orchestrate a sensory flow that is simultaneously soothing\, playful\, and deeply engaging.\n\nThis workshop is for the curious\, for lovers of touch\, and for anyone eager to explore a new\, largely uncharted form of sensory art. You will see how natural materials and attentive guidance can awaken the senses\, inspire creativity\, and allow the participant to embody a tree in a serene\, evocative\, and hypnotically tactile way.  \nNo prior experience is required – bring your curiosity and open mind to observe\, learn\, and experience the unexpected possibilities of cork\, nature\, and the human form. \nThis event will take place at Studio Xème. Refreshments will be offered\, and corks will be provided for you to try them out as well. Comfortable attire is recommended.   \n\n\n\n\n\n\n\n\n\n\n\n\n\n\n\n\n\nBook your spot here! \n\n  \n  \nGoddess show with cork \n\nPhotos by hyacinthe_
URL:https://bdsmloveroom.com/en/event/cork-sensory-workshop-the-art-of-creating-a-human-tree/
LOCATION:Xème\, Passage des Récollets\, Paris\, Île-de-France\, 75010\, France
CATEGORIES:Workshop
ATTACH;FMTTYPE=image/jpeg:https://bdsmloveroom.com/wp-content/uploads/2026/02/Sensory-workshop-with-cork.jpg
ORGANIZER;CN="Domina M":MAILTO:dominam@protonmail.ch
END:VEVENT
END:VCALENDAR